BEGIN:VCALENDAR
VERSION:2.0
PRODID:LFV Website-Kit
METHOD:PUBLISH
BEGIN:VEVENT
UID:lfv-608c8e65-1a50-4c06-8bbe-97544d8159e0
LOCATION:Sophienweg 1, 95491 Ahorntal
SUMMARY:Johannisfeuer
DESCRIPTION:Termin Link: http://ff-kirchahorn.feuerwehren.bayern/termine/johannisfeuer-2/
URL:http://ff-kirchahorn.feuerwehren.bayern/termine/johannisfeuer-2/
CLASS:PRIVATE
DTSTART;TZID=Europe/Berlin:20260620T190000
DTEND;TZID=Europe/Berlin:20260620T235900
DTSTAMP:20260419T130651Z
END:VEVENT
END:VCALENDAR